BEGIN:VCALENDAR
VERSION:2.0
PRODID:-//Bugs - ECPv6.15.14//NONSGML v1.0//EN
CALSCALE:GREGORIAN
METHOD:PUBLISH
X-ORIGINAL-URL:https://bugs.mus.br
X-WR-CALDESC:Eventos para Bugs
REFRESH-INTERVAL;VALUE=DURATION:PT1H
X-Robots-Tag:noindex
X-PUBLISHED-TTL:PT1H
BEGIN:VTIMEZONE
TZID:America/Sao_Paulo
BEGIN:STANDARD
TZOFFSETFROM:-0200
TZOFFSETTO:-0300
TZNAME:-03
DTSTART:20040215T020000
END:STANDARD
BEGIN:DAYLIGHT
TZOFFSETFROM:-0300
TZOFFSETTO:-0200
TZNAME:-02
DTSTART:20041102T030000
END:DAYLIGHT
BEGIN:STANDARD
TZOFFSETFROM:-0200
TZOFFSETTO:-0300
TZNAME:-03
DTSTART:20050220T020000
END:STANDARD
BEGIN:DAYLIGHT
TZOFFSETFROM:-0300
TZOFFSETTO:-0200
TZNAME:-02
DTSTART:20051016T030000
END:DAYLIGHT
BEGIN:STANDARD
TZOFFSETFROM:-0200
TZOFFSETTO:-0300
TZNAME:-03
DTSTART:20060219T020000
END:STANDARD
BEGIN:DAYLIGHT
TZOFFSETFROM:-0300
TZOFFSETTO:-0200
TZNAME:-02
DTSTART:20061105T030000
END:DAYLIGHT
BEGIN:STANDARD
TZOFFSETFROM:-0200
TZOFFSETTO:-0300
TZNAME:-03
DTSTART:20070225T020000
END:STANDARD
BEGIN:DAYLIGHT
TZOFFSETFROM:-0300
TZOFFSETTO:-0200
TZNAME:-02
DTSTART:20071014T030000
END:DAYLIGHT
BEGIN:STANDARD
TZOFFSETFROM:-0200
TZOFFSETTO:-0300
TZNAME:-03
DTSTART:20080217T020000
END:STANDARD
BEGIN:DAYLIGHT
TZOFFSETFROM:-0300
TZOFFSETTO:-0200
TZNAME:-02
DTSTART:20081019T030000
END:DAYLIGHT
BEGIN:STANDARD
TZOFFSETFROM:-0200
TZOFFSETTO:-0300
TZNAME:-03
DTSTART:20090215T020000
END:STANDARD
BEGIN:DAYLIGHT
TZOFFSETFROM:-0300
TZOFFSETTO:-0200
TZNAME:-02
DTSTART:20091018T030000
END:DAYLIGHT
BEGIN:STANDARD
TZOFFSETFROM:-0200
TZOFFSETTO:-0300
TZNAME:-03
DTSTART:20100221T020000
END:STANDARD
BEGIN:DAYLIGHT
TZOFFSETFROM:-0300
TZOFFSETTO:-0200
TZNAME:-02
DTSTART:20101017T030000
END:DAYLIGHT
BEGIN:STANDARD
TZOFFSETFROM:-0200
TZOFFSETTO:-0300
TZNAME:-03
DTSTART:20110220T020000
END:STANDARD
BEGIN:DAYLIGHT
TZOFFSETFROM:-0300
TZOFFSETTO:-0200
TZNAME:-02
DTSTART:20111016T030000
END:DAYLIGHT
BEGIN:STANDARD
TZOFFSETFROM:-0200
TZOFFSETTO:-0300
TZNAME:-03
DTSTART:20120226T020000
END:STANDARD
BEGIN:DAYLIGHT
TZOFFSETFROM:-0300
TZOFFSETTO:-0200
TZNAME:-02
DTSTART:20121021T030000
END:DAYLIGHT
BEGIN:STANDARD
TZOFFSETFROM:-0200
TZOFFSETTO:-0300
TZNAME:-03
DTSTART:20130217T020000
END:STANDARD
BEGIN:DAYLIGHT
TZOFFSETFROM:-0300
TZOFFSETTO:-0200
TZNAME:-02
DTSTART:20131020T030000
END:DAYLIGHT
BEGIN:STANDARD
TZOFFSETFROM:-0200
TZOFFSETTO:-0300
TZNAME:-03
DTSTART:20140216T020000
END:STANDARD
BEGIN:DAYLIGHT
TZOFFSETFROM:-0300
TZOFFSETTO:-0200
TZNAME:-02
DTSTART:20141019T030000
END:DAYLIGHT
BEGIN:STANDARD
TZOFFSETFROM:-0200
TZOFFSETTO:-0300
TZNAME:-03
DTSTART:20150222T020000
END:STANDARD
BEGIN:DAYLIGHT
TZOFFSETFROM:-0300
TZOFFSETTO:-0200
TZNAME:-02
DTSTART:20151018T030000
END:DAYLIGHT
END:VTIMEZONE
BEGIN:VEVENT
DTSTART;TZID=America/Sao_Paulo:20140912T230000
DTEND;TZID=America/Sao_Paulo:20140913T020000
DTSTAMP:20260415T025128
CREATED:20220707T151121Z
LAST-MODIFIED:20220707T151121Z
UID:991-1410562800-1410573600@bugs.mus.br
SUMMARY:Back To The 90
DESCRIPTION:A Bugs tocou na festa Back To The 90.
URL:https://bugs.mus.br/evento/back-to-the-90-3/
LOCATION:Clube Silêncio\, R. João Alfredo\, 449\, Porto Alegre\, Rio Grande do Sul\, 90050-310\, Brasil
ATTACH;FMTTYPE=image/jpeg:https://bugs.mus.br/wp-content/uploads/2022/07/Show-no-Clube-Silencio-12-09-2014.jpg
END:VEVENT
BEGIN:VEVENT
DTSTART;TZID=America/Sao_Paulo:20140828T220000
DTEND;TZID=America/Sao_Paulo:20140828T233000
DTSTAMP:20260415T025128
CREATED:20220707T150914Z
LAST-MODIFIED:20220707T150914Z
UID:988-1409263200-1409268600@bugs.mus.br
SUMMARY:Quinta Top Tribute
DESCRIPTION:A Bugs tocou com a banda Foot Fighters (tributo ao Foo Fighters).
URL:https://bugs.mus.br/evento/quinta-top-tribute-3/
LOCATION:Divina Comédia\, Rua da República\, 649\, Porto Alegre\, Rio Grande do Sul\, 90050-321\, Brasil
ATTACH;FMTTYPE=image/jpeg:https://bugs.mus.br/wp-content/uploads/2022/07/Show-da-Bugs-28-08-2014.jpg
END:VEVENT
BEGIN:VEVENT
DTSTART;TZID=America/Sao_Paulo:20140801T210000
DTEND;TZID=America/Sao_Paulo:20140801T233000
DTSTAMP:20260415T025128
CREATED:20220707T150654Z
LAST-MODIFIED:20220707T151647Z
UID:986-1406926800-1406935800@bugs.mus.br
SUMMARY:Evento particular
DESCRIPTION:
URL:https://bugs.mus.br/evento/evento-particular-3/
LOCATION:Porto Alegre/RS\, Porto Alegre\, Rio Grande do Sul\, Brasil
END:VEVENT
BEGIN:VEVENT
DTSTART;TZID=America/Sao_Paulo:20140605T220000
DTEND;TZID=America/Sao_Paulo:20140605T233000
DTSTAMP:20260415T025128
CREATED:20220701T034104Z
LAST-MODIFIED:20220701T034104Z
UID:965-1402005600-1402011000@bugs.mus.br
SUMMARY:Tributo ao Pearl Jam
DESCRIPTION:A Bugs tocou junto com a banda Be Yourself (Audio Slave cover).\nNo show da Bugs – Pearl Jam Tribute teve a participação do vocalista Alexandre De Lucca (banda Be Yourself) na música Hunger Strike da banda Temple Of The Dog.
URL:https://bugs.mus.br/evento/tributo-ao-pearl-jam-4/
LOCATION:Divina Comédia\, Rua da República\, 649\, Porto Alegre\, Rio Grande do Sul\, 90050-321\, Brasil
ATTACH;FMTTYPE=image/jpeg:https://bugs.mus.br/wp-content/uploads/2022/07/Show-do-Divina-Comedia-05-06-2014.jpg
END:VEVENT
BEGIN:VEVENT
DTSTART;TZID=America/Sao_Paulo:20140327T220000
DTEND;TZID=America/Sao_Paulo:20140327T233000
DTSTAMP:20260415T025128
CREATED:20220701T033613Z
LAST-MODIFIED:20220701T033858Z
UID:959-1395957600-1395963000@bugs.mus.br
SUMMARY:Tributo ao Pearl Jam
DESCRIPTION:O primeiro show do ano e a estreia da formação da Bugs iniciada no ano de 2013.
URL:https://bugs.mus.br/evento/tributo-ao-pearl-jam-3/
LOCATION:Clube Silêncio\, R. João Alfredo\, 449\, Porto Alegre\, Rio Grande do Sul\, 90050-310\, Brasil
ATTACH;FMTTYPE=image/jpeg:https://bugs.mus.br/wp-content/uploads/2022/07/Show-do-Clube-Silencio-27-03-2014.jpg
END:VEVENT
BEGIN:VEVENT
DTSTART;TZID=America/Sao_Paulo:20130919T220000
DTEND;TZID=America/Sao_Paulo:20130919T233000
DTSTAMP:20260415T025128
CREATED:20220707T152105Z
LAST-MODIFIED:20220707T152738Z
UID:1003-1379628000-1379633400@bugs.mus.br
SUMMARY:Confraria do Pedigree
DESCRIPTION:Primeiro show da nova formação da Bugs que tocou no evento “Confraria do Pedigree” junto com a banda Grungeleiros.
URL:https://bugs.mus.br/evento/confratia-do-pedigree/
LOCATION:Looper Brazil\, Av. Tramandaí\, 399\, Porto Alegre\, Rio Grande do Sul\, Brasil
ATTACH;FMTTYPE=image/jpeg:https://bugs.mus.br/wp-content/uploads/2022/07/CONVITE-2.jpg
END:VEVENT
BEGIN:VEVENT
DTSTART;TZID=America/Sao_Paulo:20061208T220000
DTEND;TZID=America/Sao_Paulo:20061208T233000
DTSTAMP:20260415T025128
CREATED:20220707T153205Z
LAST-MODIFIED:20220707T153205Z
UID:1020-1165615200-1165620600@bugs.mus.br
SUMMARY:Tributo ao Pearl Jam
DESCRIPTION:
URL:https://bugs.mus.br/evento/tributo-ao-pearl-jam-6/
LOCATION:Believe Clube de Músicos e Apreciadores\, Rua: Itaboraí \,1185\, Porto Alegre\, Rio Grande do Sul\, 90670-030\, Brasil
END:VEVENT
BEGIN:VEVENT
DTSTART;TZID=America/Sao_Paulo:20060406T220000
DTEND;TZID=America/Sao_Paulo:20060406T233000
DTSTAMP:20260415T025128
CREATED:20220707T153054Z
LAST-MODIFIED:20220707T153245Z
UID:1018-1144360800-1144366200@bugs.mus.br
SUMMARY:Tributo ao Pearl Jam
DESCRIPTION:A Pearl Jam Cover tocou junto com a banda Cartel da Cevada.
URL:https://bugs.mus.br/evento/tributo-ao-pearl-jam-5/
LOCATION:Cave Bar\, Porto Alegre\, Rio Grande do Sul\, Brasil
END:VEVENT
BEGIN:VEVENT
DTSTART;TZID=America/Sao_Paulo:20051125T220000
DTEND;TZID=America/Sao_Paulo:20051125T233000
DTSTAMP:20260415T025128
CREATED:20220707T154445Z
LAST-MODIFIED:20220707T154445Z
UID:1040-1132956000-1132961400@bugs.mus.br
SUMMARY:Baladas no Believe
DESCRIPTION:A Pearl Jam Cover fez um show acústico no evento “Baladas no Believe”\, lotando o bar num show acústico em comemoração ao primeiro show do Pearl Jam em Porto Alegre e no Brasil.\nA formação do show acústico foi composta por Luciano Bargmann (vocal)\, Fabiano Palma (contrabaixo acústico)\, Andrey Aires e Rodrigo “Spike” (violões).\nO show acústico teve a participação especial do baterista Márcio Figueiredo e do tecladista Andrio “Brain” Spich.
URL:https://bugs.mus.br/evento/baladas-no-believe/
LOCATION:Believe Clube de Músicos e Apreciadores\, Rua: Itaboraí \,1185\, Porto Alegre\, Rio Grande do Sul\, 90670-030\, Brasil
END:VEVENT
BEGIN:VEVENT
DTSTART;TZID=America/Sao_Paulo:20050924T150000
DTEND;TZID=America/Sao_Paulo:20050924T233000
DTSTAMP:20260415T025128
CREATED:20220707T153900Z
LAST-MODIFIED:20220707T153900Z
UID:1031-1127574000-1127604600@bugs.mus.br
SUMMARY:2º Zona Sul Festival
DESCRIPTION:O festival teve a participação de 15 bandas independentes de Porto Alegre.
URL:https://bugs.mus.br/evento/2o-zona-sul-festival/
LOCATION:Galpão da GERGS\, Porto Alegre\, Rio Grande do Sul\, Brasil
END:VEVENT
BEGIN:VEVENT
DTSTART;TZID=America/Sao_Paulo:20050625T220000
DTEND;TZID=America/Sao_Paulo:20050625T233000
DTSTAMP:20260415T025128
CREATED:20220707T153705Z
LAST-MODIFIED:20220707T153705Z
UID:1027-1119736800-1119742200@bugs.mus.br
SUMMARY:Hot Club no Believe
DESCRIPTION:Este show teve a estreia de Lucidio Gontan e também o retorno de Luciano Bargmann no vocal da banda.
URL:https://bugs.mus.br/evento/hot-club-no-believe/
LOCATION:Believe Clube de Músicos e Apreciadores\, Rua: Itaboraí \,1185\, Porto Alegre\, Rio Grande do Sul\, 90670-030\, Brasil
END:VEVENT
END:VCALENDAR